BEGIN:VCALENDAR
VERSION:2.0
PRODID:-//West Texas Rehab - ECPv6.15.20//NONSGML v1.0//EN
CALSCALE:GREGORIAN
METHOD:PUBLISH
X-ORIGINAL-URL:https://westtexasrehab.org
X-WR-CALDESC:Events for West Texas Rehab
REFRESH-INTERVAL;VALUE=DURATION:PT1H
X-Robots-Tag:noindex
X-PUBLISHED-TTL:PT1H
BEGIN:VTIMEZONE
TZID:America/Chicago
BEGIN:DAYLIGHT
TZOFFSETFROM:-0600
TZOFFSETTO:-0500
TZNAME:CDT
DTSTART:20250309T080000
END:DAYLIGHT
BEGIN:STANDARD
TZOFFSETFROM:-0500
TZOFFSETTO:-0600
TZNAME:CST
DTSTART:20251102T070000
END:STANDARD
BEGIN:DAYLIGHT
TZOFFSETFROM:-0600
TZOFFSETTO:-0500
TZNAME:CDT
DTSTART:20260308T080000
END:DAYLIGHT
BEGIN:STANDARD
TZOFFSETFROM:-0500
TZOFFSETTO:-0600
TZNAME:CST
DTSTART:20261101T070000
END:STANDARD
BEGIN:DAYLIGHT
TZOFFSETFROM:-0600
TZOFFSETTO:-0500
TZNAME:CDT
DTSTART:20270314T080000
END:DAYLIGHT
BEGIN:STANDARD
TZOFFSETFROM:-0500
TZOFFSETTO:-0600
TZNAME:CST
DTSTART:20271107T070000
END:STANDARD
END:VTIMEZONE
BEGIN:VEVENT
DTSTART;TZID=America/Chicago:20260606T110000
DTEND;TZID=America/Chicago:20260606T130000
DTSTAMP:20260423T071554
CREATED:20260414T161146Z
LAST-MODIFIED:20260414T161146Z
UID:10000366-1780743600-1780750800@westtexasrehab.org
SUMMARY:Hospice of the Big Country's Butterfly Release Memorial Service
DESCRIPTION:Join us in Abilene for a peaceful time of remembrance as we honor the lives of those we’ve lost with a symbolic butterfly release. Hosted by West Texas Rehab’s Hospice of the Big Country’s team\, this meaningful memorial offers comfort\, reflection\, and connection. \nAgenda: Memorial service and butterly release followed by a picnic lunch\, all are welcome. \nPlease RSVP to 325-793-5450 \nCasual Attire \nFor more information please call 325-793-5450
URL:https://westtexasrehab.org/event/hospice-of-the-big-countrys-butterfly-release-memorial-service/
LOCATION:Festival Gardens at Nelson Park\, 2070 Zoo Ln\, Abilene\, TX\, 79602\, United States
ATTACH;FMTTYPE=image/png:https://westtexasrehab.org/wp-content/uploads/2026/04/Legacy-of-Love-27.png
END:VEVENT
BEGIN:VEVENT
DTSTART;TZID=America/Chicago:20260613T080000
DTEND;TZID=America/Chicago:20260613T120000
DTSTAMP:20260423T071554
CREATED:20250207T172024Z
LAST-MODIFIED:20260216T162849Z
UID:10000092-1781337600-1781352000@westtexasrehab.org
SUMMARY:Abilene Junior Anglers
DESCRIPTION:This event is designed to provide children with special needs the opportunity to enjoy a quality outdoor recreational experience through the sport of fishing. Join us for an unforgettable morning of fishing\, boating\, and celebrating amazing children! The boats will be loading at 8:45 a.m. and launching between 8:45 a.m. – 9:15 a.m. There will be many opportunities for photos and video throughout the morning and an awards ceremony from 11:00 a.m. to 12:00 p.m.\, followed by lunch. \nPre-registration is required. Space is limited. Contact Katie Davis or Betsy Ambrose at boatersforjunioranglers@wtrc.com with any questions. Please note only one parent/guardian is guaranteed a boat ride. Anyone in the family is welcome to fish from the shore. Once registered\, event details will be sent to you via email and text within two weeks prior to the event day. \nUpon arrival\, please check in at the event registration table. You and your child will be paired with a Volunteer Boater for approximately 2-3 hours of fishing. The fishing is followed by lunch for everyone and an awards ceremony for the children. A day of joy and celebration for all! \nWe look forward to fishing with you! \nChild Registration \nVolunteer Registration  \nBoater Registration
URL:https://westtexasrehab.org/event/junior-anglers/
ATTACH;FMTTYPE=image/jpeg:https://westtexasrehab.org/wp-content/uploads/2025/02/JA.jpg
END:VEVENT
BEGIN:VEVENT
DTSTART;TZID=America/Chicago:20260616T190000
DTEND;TZID=America/Chicago:20260616T220000
DTSTAMP:20260423T071554
CREATED:20260311T160126Z
LAST-MODIFIED:20260311T160126Z
UID:10000360-1781636400-1781647200@westtexasrehab.org
SUMMARY:Round Up Lamb and Goat Sale
DESCRIPTION:Get ready for the Round-Up Lamb & Goat Sale! Join us on June 16th at the Stephens County AG Barn (CR 245\, Breckenridge) for an exciting auction featuring premium lambs and goats from breeders nationwide. Preview the animals starting at 5:30 PM. Interested in donating an animal? Contact Jason Prew at 325-793-3510 and Wade Kirkwood at 432-557-7073.
URL:https://westtexasrehab.org/event/round-up-lamb-and-goat-sale-2/
ATTACH;FMTTYPE=image/jpeg:https://westtexasrehab.org/wp-content/uploads/2026/03/Dinner-Heart-Remember-3.jpg
END:VEVENT
BEGIN:VEVENT
DTSTART;TZID=America/Chicago:20260630T180000
DTEND;TZID=America/Chicago:20260630T220000
DTSTAMP:20260423T071554
CREATED:20260302T174110Z
LAST-MODIFIED:20260311T170441Z
UID:10000343-1782842400-1782856800@westtexasrehab.org
SUMMARY:53rd Annual Stamford Art Foundation Show & Sale
DESCRIPTION:Get ready for a one-of-a-kind West Texas evening at the 53rd Annual Stamford Art Foundation Show & Sale\, benefiting West Texas Rehabilitation Center. Featuring an outstanding art show\, a legendary steak dinner\, and a live country performance\, you won’t want to miss. \nEnjoy a steak dinner by Joe Allen’s\, one of Texas’ most iconic steakhouses\, followed by a toe-tapping performance from Jake Hooker and The Outsiders\, known for their traditional country sound and energetic stage presence. \nOf course\, the heart of the event remains the incredible art on display. Whether you’re a seasoned collector or appreciate fine art\, the Stamford Art Foundation Show offers something for everyone\, with the added opportunity to make a meaningful impact. \nFor more information\, please contact Karla Brown: 325-793-3508.
URL:https://westtexasrehab.org/event/53rd-annual-stamford-art-foundation-show-sale/
LOCATION:US-277 W Reynolds St\, Stamford\, TX 79553 Stamford\, United States 73553\, 925 US-277G Business\, Stamford\, 79553\, United States
ATTACH;FMTTYPE=image/jpeg:https://westtexasrehab.org/wp-content/uploads/2026/03/Clay-Day-2-1.jpg
END:VEVENT
END:VCALENDAR