BEGIN:VCALENDAR
VERSION:2.0
PRODID:-//West Texas Rehab - ECPv6.15.20//NONSGML v1.0//EN
CALSCALE:GREGORIAN
METHOD:PUBLISH
X-WR-CALNAME:West Texas Rehab
X-ORIGINAL-URL:https://westtexasrehab.org
X-WR-CALDESC:Events for West Texas Rehab
REFRESH-INTERVAL;VALUE=DURATION:PT1H
X-Robots-Tag:noindex
X-PUBLISHED-TTL:PT1H
BEGIN:VTIMEZONE
TZID:America/Chicago
BEGIN:DAYLIGHT
TZOFFSETFROM:-0600
TZOFFSETTO:-0500
TZNAME:CDT
DTSTART:20250309T080000
END:DAYLIGHT
BEGIN:STANDARD
TZOFFSETFROM:-0500
TZOFFSETTO:-0600
TZNAME:CST
DTSTART:20251102T070000
END:STANDARD
BEGIN:DAYLIGHT
TZOFFSETFROM:-0600
TZOFFSETTO:-0500
TZNAME:CDT
DTSTART:20260308T080000
END:DAYLIGHT
BEGIN:STANDARD
TZOFFSETFROM:-0500
TZOFFSETTO:-0600
TZNAME:CST
DTSTART:20261101T070000
END:STANDARD
BEGIN:DAYLIGHT
TZOFFSETFROM:-0600
TZOFFSETTO:-0500
TZNAME:CDT
DTSTART:20270314T080000
END:DAYLIGHT
BEGIN:STANDARD
TZOFFSETFROM:-0500
TZOFFSETTO:-0600
TZNAME:CST
DTSTART:20271107T070000
END:STANDARD
END:VTIMEZONE
BEGIN:VEVENT
DTSTART;TZID=America/Chicago:20261212T190000
DTEND;TZID=America/Chicago:20261213T000000
DTSTAMP:20260421T202631
CREATED:20260311T201831Z
LAST-MODIFIED:20260401T202945Z
UID:10000363-1797102000-1797120000@westtexasrehab.org
SUMMARY:Big Country Christmas Ball
DESCRIPTION:West Texas Rehabilitation Center presents the Big Country Christmas Ball\, featuring Jody Nix! Join us for a night of music and dancing on December 12\, 2026\, from 7:00 pm to Midnight at the WTC Coliseum – 900 E Coliseum Dr\, Snyder\, TX 79549. Tickets are $25 per person and can be purchased at the door. For more information on table sponsorships and event details\, please call Elizabeth Shea at 325-793-3508. Coolers are welcome\, but please no glass containers. Concessions will be provided by Le Tejania.
URL:https://westtexasrehab.org/event/big-country-christmas-ball-4/
LOCATION:WTC Coliseum\, 900 E Coliseum Dr\,\, Snyder\, TX\, 79549\, United States
ATTACH;FMTTYPE=image/jpeg:https://westtexasrehab.org/wp-content/uploads/2026/03/Copy-of-325-793-3509-11-x-8-in-2.jpg
END:VEVENT
BEGIN:VEVENT
DTSTART;TZID=America/Chicago:20261217T160000
DTEND;TZID=America/Chicago:20261217T200000
DTSTAMP:20260421T202631
CREATED:20260305T163328Z
LAST-MODIFIED:20260309T163901Z
UID:10000357-1797523200-1797537600@westtexasrehab.org
SUMMARY:Dine Out to Give Back at Panera Bread
DESCRIPTION:On December 13th\, simply enjoy a meal at Panera Bread and a percentage of your total food purchase will be donated back to West Texas Rehab. It’s an easy and delicious way to give back to an organization that provides life-changing care for children and adults across the Big Country. \nWhen placing your order\, be sure to mention West Texas Rehab so your purchase can count toward the fundraiser. Bring your family\, invite your friends\, and help us make a difference—one meal at a time.
URL:https://westtexasrehab.org/event/dine-out-to-give-back-at-panera-bread/
LOCATION:Panera Bread\, 3506 S Clack St\, Abilene\, TX\, 79606\, United States
ATTACH;FMTTYPE=image/jpeg:https://westtexasrehab.org/wp-content/uploads/2026/03/Panera-Bread.jpg
END:VEVENT
END:VCALENDAR