BEGIN:VCALENDAR
VERSION:2.0
PRODID:-//West Texas Rehab - ECPv6.15.20//NONSGML v1.0//EN
CALSCALE:GREGORIAN
METHOD:PUBLISH
X-ORIGINAL-URL:https://westtexasrehab.org
X-WR-CALDESC:Events for West Texas Rehab
REFRESH-INTERVAL;VALUE=DURATION:PT1H
X-Robots-Tag:noindex
X-PUBLISHED-TTL:PT1H
BEGIN:VTIMEZONE
TZID:America/Chicago
BEGIN:DAYLIGHT
TZOFFSETFROM:-0600
TZOFFSETTO:-0500
TZNAME:CDT
DTSTART:20250309T080000
END:DAYLIGHT
BEGIN:STANDARD
TZOFFSETFROM:-0500
TZOFFSETTO:-0600
TZNAME:CST
DTSTART:20251102T070000
END:STANDARD
BEGIN:DAYLIGHT
TZOFFSETFROM:-0600
TZOFFSETTO:-0500
TZNAME:CDT
DTSTART:20260308T080000
END:DAYLIGHT
BEGIN:STANDARD
TZOFFSETFROM:-0500
TZOFFSETTO:-0600
TZNAME:CST
DTSTART:20261101T070000
END:STANDARD
BEGIN:DAYLIGHT
TZOFFSETFROM:-0600
TZOFFSETTO:-0500
TZNAME:CDT
DTSTART:20270314T080000
END:DAYLIGHT
BEGIN:STANDARD
TZOFFSETFROM:-0500
TZOFFSETTO:-0600
TZNAME:CST
DTSTART:20271107T070000
END:STANDARD
END:VTIMEZONE
BEGIN:VEVENT
DTSTART;TZID=America/Chicago:20260520T150000
DTEND;TZID=America/Chicago:20260520T220000
DTSTAMP:20260423T071502
CREATED:20260305T152940Z
LAST-MODIFIED:20260305T152940Z
UID:10000356-1779289200-1779314400@westtexasrehab.org
SUMMARY:Dine Out to Give Back at Texas Roadhouse
DESCRIPTION:Join us at Texas Roadhouse on Wednesday\, May 20th! Support West Texas Rehab by presenting this flyer to the San Angelo\, TX location and Texas Roadhouse will donate 10% of your total foodpurchases to West Texas Rehab!
URL:https://westtexasrehab.org/event/dine-out-to-give-back-at-texas-roadhouse/
LOCATION:Texas Roadhouse\, 3057 W Loop 306\, San Angelo\, TX\, 76904\, United States
ATTACH;FMTTYPE=image/png:https://westtexasrehab.org/wp-content/uploads/2026/03/Website-scaled.png
END:VEVENT
END:VCALENDAR