BEGIN:VCALENDAR
VERSION:2.0
PRODID:-//West Texas Rehab - ECPv6.15.20//NONSGML v1.0//EN
CALSCALE:GREGORIAN
METHOD:PUBLISH
X-ORIGINAL-URL:https://westtexasrehab.org
X-WR-CALDESC:Events for West Texas Rehab
REFRESH-INTERVAL;VALUE=DURATION:PT1H
X-Robots-Tag:noindex
X-PUBLISHED-TTL:PT1H
BEGIN:VTIMEZONE
TZID:America/Chicago
BEGIN:DAYLIGHT
TZOFFSETFROM:-0600
TZOFFSETTO:-0500
TZNAME:CDT
DTSTART:20250309T080000
END:DAYLIGHT
BEGIN:STANDARD
TZOFFSETFROM:-0500
TZOFFSETTO:-0600
TZNAME:CST
DTSTART:20251102T070000
END:STANDARD
BEGIN:DAYLIGHT
TZOFFSETFROM:-0600
TZOFFSETTO:-0500
TZNAME:CDT
DTSTART:20260308T080000
END:DAYLIGHT
BEGIN:STANDARD
TZOFFSETFROM:-0500
TZOFFSETTO:-0600
TZNAME:CST
DTSTART:20261101T070000
END:STANDARD
BEGIN:DAYLIGHT
TZOFFSETFROM:-0600
TZOFFSETTO:-0500
TZNAME:CDT
DTSTART:20270314T080000
END:DAYLIGHT
BEGIN:STANDARD
TZOFFSETFROM:-0500
TZOFFSETTO:-0600
TZNAME:CST
DTSTART:20271107T070000
END:STANDARD
END:VTIMEZONE
BEGIN:VEVENT
DTSTART;TZID=America/Chicago:20260414T110000
DTEND;TZID=America/Chicago:20260414T140000
DTSTAMP:20260421T103119
CREATED:20260303T171907Z
LAST-MODIFIED:20260303T171907Z
UID:10000351-1776164400-1776175200@westtexasrehab.org
SUMMARY:Dine Out to Give Back at Mr. T's Deli
DESCRIPTION:Grab a bite and give back! Join us at Mr. T’s Deli for Dine Out to Give Back\, where a portion of the proceeds will support West Texas Rehabilitation Center and our mission to improve the quality of life for those we serve regardless of their financial circumstances.
URL:https://westtexasrehab.org/event/dine-out-to-give-back-at-mr-ts-deli/
LOCATION:Mr. T’s Deli\, 900 W Ave J\, San Angelo\, 76901\, United States
ATTACH;FMTTYPE=image/png:https://westtexasrehab.org/wp-content/uploads/2026/03/Mr-Ts-Dine-Out-5.png
END:VEVENT
END:VCALENDAR