BEGIN:VCALENDAR
VERSION:2.0
PRODID:-//West Texas Rehab - ECPv6.15.20//NONSGML v1.0//EN
CALSCALE:GREGORIAN
METHOD:PUBLISH
X-ORIGINAL-URL:https://westtexasrehab.org
X-WR-CALDESC:Events for West Texas Rehab
REFRESH-INTERVAL;VALUE=DURATION:PT1H
X-Robots-Tag:noindex
X-PUBLISHED-TTL:PT1H
BEGIN:VTIMEZONE
TZID:America/Chicago
BEGIN:DAYLIGHT
TZOFFSETFROM:-0600
TZOFFSETTO:-0500
TZNAME:CDT
DTSTART:20250309T080000
END:DAYLIGHT
BEGIN:STANDARD
TZOFFSETFROM:-0500
TZOFFSETTO:-0600
TZNAME:CST
DTSTART:20251102T070000
END:STANDARD
BEGIN:DAYLIGHT
TZOFFSETFROM:-0600
TZOFFSETTO:-0500
TZNAME:CDT
DTSTART:20260308T080000
END:DAYLIGHT
BEGIN:STANDARD
TZOFFSETFROM:-0500
TZOFFSETTO:-0600
TZNAME:CST
DTSTART:20261101T070000
END:STANDARD
BEGIN:DAYLIGHT
TZOFFSETFROM:-0600
TZOFFSETTO:-0500
TZNAME:CDT
DTSTART:20270314T080000
END:DAYLIGHT
BEGIN:STANDARD
TZOFFSETFROM:-0500
TZOFFSETTO:-0600
TZNAME:CST
DTSTART:20271107T070000
END:STANDARD
END:VTIMEZONE
BEGIN:VEVENT
DTSTART;TZID=America/Chicago:20260411T080000
DTEND;TZID=America/Chicago:20260411T220000
DTSTAMP:20260421T103403
CREATED:20260115T203940Z
LAST-MODIFIED:20260327T152534Z
UID:10000334-1775894400-1775944800@westtexasrehab.org
SUMMARY:Top Gun Clay Shoot Day 2
DESCRIPTION:The REHAB ‘Top Gun’ Sporting Clays Classic is an exciting annual spring event that satisfies both skilled and amateur clay shooters. More than 500 shooters attend each year at Abilene Clay Sports\, making it one of the largest clay shoots in the Abilene area. All proceeds benefit West Texas Rehabilitation Center. OUR AUCTION IS NOW OPEN! Get in on the action before the event starts. Our silent auction is officially live on Handbid. Click the link below. \nClick Here \nDinner on Saturday Night will be at Potosi Live. Doors open at 6:00 pm \nPrizes: \nHigh Overall: Highest overall shooter from all three courses. \nMen’s High Overall: Highest men’s score per course (Friday\, Sat. North and Sat. South)\nLadies High Overall: Highest Ladies score per course (Friday\, Sat. North and Sat. South)\nJunior’s (18 & under) High Overall: Highest Junior’s score per course (Friday\, Sat. North and Sat. South) \n \n<!–\nIf you embed multiple forms on your page\, only copy one of the  lines.\nOtherwise\, multiple copies of the form will appear.\n–>
URL:https://westtexasrehab.org/event/top-gun-clay-shoot-day-2/
LOCATION:Abilene Clay Sports                    1102 E Spur 707                   Abilene\, TX 79602\, Abilene Clay Sports 1102 E Spur 707\, Abilene\, TX\, 79602\, United States
ATTACH;FMTTYPE=image/jpeg:https://westtexasrehab.org/wp-content/uploads/2026/01/Clay-Day-2.jpg
END:VEVENT
END:VCALENDAR