BEGIN:VCALENDAR
VERSION:2.0
PRODID:-//West Texas Rehab - ECPv6.15.20//NONSGML v1.0//EN
CALSCALE:GREGORIAN
METHOD:PUBLISH
X-ORIGINAL-URL:https://westtexasrehab.org
X-WR-CALDESC:Events for West Texas Rehab
REFRESH-INTERVAL;VALUE=DURATION:PT1H
X-Robots-Tag:noindex
X-PUBLISHED-TTL:PT1H
BEGIN:VTIMEZONE
TZID:America/Chicago
BEGIN:DAYLIGHT
TZOFFSETFROM:-0600
TZOFFSETTO:-0500
TZNAME:CDT
DTSTART:20250309T080000
END:DAYLIGHT
BEGIN:STANDARD
TZOFFSETFROM:-0500
TZOFFSETTO:-0600
TZNAME:CST
DTSTART:20251102T070000
END:STANDARD
BEGIN:DAYLIGHT
TZOFFSETFROM:-0600
TZOFFSETTO:-0500
TZNAME:CDT
DTSTART:20260308T080000
END:DAYLIGHT
BEGIN:STANDARD
TZOFFSETFROM:-0500
TZOFFSETTO:-0600
TZNAME:CST
DTSTART:20261101T070000
END:STANDARD
BEGIN:DAYLIGHT
TZOFFSETFROM:-0600
TZOFFSETTO:-0500
TZNAME:CDT
DTSTART:20270314T080000
END:DAYLIGHT
BEGIN:STANDARD
TZOFFSETFROM:-0500
TZOFFSETTO:-0600
TZNAME:CST
DTSTART:20271107T070000
END:STANDARD
END:VTIMEZONE
BEGIN:VEVENT
DTSTART;TZID=America/Chicago:20260201T080000
DTEND;TZID=America/Chicago:20260228T170000
DTSTAMP:20260425T084114
CREATED:20260115T162731Z
LAST-MODIFIED:20260115T194153Z
UID:10000331-1769932800-1772298000@westtexasrehab.org
SUMMARY:Hearts Remembered
DESCRIPTION:Hearts Remembered is held each year during the Valentine season. This is an event that offers an opportunity for family and friends to publicly honor or remember a special person in their life while supporting Hospice of the Big Country in providing care for the terminally ill. \nFor a $10 or more donation\, your chosen name will be inscribed on a heart and prominently displayed during February at The Abilene West Texas Rehabilitation Center. \nAll donations will benefit the terminally ill patients and their families in Abilene and 11 surrounding counties.
URL:https://westtexasrehab.org/event/hearts-remembered-2/
ATTACH;FMTTYPE=image/jpeg:https://westtexasrehab.org/wp-content/uploads/2026/01/Heart-Remember.jpg
END:VEVENT
END:VCALENDAR